BEGIN:VCALENDAR
VERSION:2.0
PRODID:-//Ayuntamiento de Motril. Transparencia - ECPv6.15.20//NONSGML v1.0//EN
CALSCALE:GREGORIAN
METHOD:PUBLISH
X-WR-CALNAME:Ayuntamiento de Motril. Transparencia
X-ORIGINAL-URL:https://transparencia.motril.es
X-WR-CALDESC:Eventos para Ayuntamiento de Motril. Transparencia
REFRESH-INTERVAL;VALUE=DURATION:PT1H
X-Robots-Tag:noindex
X-PUBLISHED-TTL:PT1H
BEGIN:VTIMEZONE
TZID:UTC
BEGIN:STANDARD
TZOFFSETFROM:+0000
TZOFFSETTO:+0000
TZNAME:UTC
DTSTART:20210101T000000
END:STANDARD
END:VTIMEZONE
BEGIN:VEVENT
DTSTART;TZID=UTC:20220801T100000
DTEND;TZID=UTC:20220801T100000
DTSTAMP:20260424T143337
CREATED:20220729T105206Z
LAST-MODIFIED:20220729T105206Z
UID:4320-1659348000-1659348000@transparencia.motril.es
SUMMARY:Reunión interna
DESCRIPTION:
URL:https://transparencia.motril.es/evento/reunion-interna-80/
END:VEVENT
BEGIN:VEVENT
DTSTART;TZID=UTC:20220801T110000
DTEND;TZID=UTC:20220801T110000
DTSTAMP:20260424T143337
CREATED:20220729T105134Z
LAST-MODIFIED:20220729T105134Z
UID:4318-1659351600-1659351600@transparencia.motril.es
SUMMARY:La alcaldesa de Motril\, Luisa García Chamorro\, asiste a la entrega de los gigantes y cabezudos tras su restauración
DESCRIPTION:
URL:https://transparencia.motril.es/evento/la-alcaldesa-de-motril-luisa-garcia-chamorro-asiste-a-la-entrega-de-los-gigantes-y-cabezudos-tras-su-restauracion/
LOCATION:Escuela de Artes y Oficios de Motril
END:VEVENT
BEGIN:VEVENT
DTSTART;TZID=UTC:20220801T120000
DTEND;TZID=UTC:20220801T120000
DTSTAMP:20260424T143337
CREATED:20220729T105226Z
LAST-MODIFIED:20220729T105226Z
UID:4322-1659355200-1659355200@transparencia.motril.es
SUMMARY:Reunión interna
DESCRIPTION:
URL:https://transparencia.motril.es/evento/reunion-interna-81/
END:VEVENT
BEGIN:VEVENT
DTSTART;TZID=UTC:20220801T120000
DTEND;TZID=UTC:20220801T120000
DTSTAMP:20260424T143337
CREATED:20220729T115547Z
LAST-MODIFIED:20220729T115547Z
UID:4325-1659355200-1659355200@transparencia.motril.es
SUMMARY:La alcaldesa de Motril\, Luisa García Chamorro\, junto al presidente de la Autoridad Portuaria\, José García Fuentes\, mantendrán un encuentro con ejecutivos del Grupo Internacional de Desarrollo de Destinos de Cruceros que visitan Motril para conocer su oferta turística.
DESCRIPTION:
URL:https://transparencia.motril.es/evento/la-alcaldesa-de-motril-luisa-garcia-chamorro-junto-al-presidente-de-la-autoridad-portuaria-jose-garcia-fuentes-mantendran-un-encuentro-con-ejecutivos-del-grupo-internacional-de-desarrollo-de-desti/
LOCATION:Mercado Municipal\, Avenida de San Agustín\, Motril\, Granada\, 18600\, España
END:VEVENT
END:VCALENDAR