BEGIN:VCALENDAR
VERSION:2.0
PRODID:-//Ayuntamiento de Motril. Transparencia - ECPv6.15.20//NONSGML v1.0//EN
CALSCALE:GREGORIAN
METHOD:PUBLISH
X-ORIGINAL-URL:https://transparencia.motril.es
X-WR-CALDESC:Eventos para Ayuntamiento de Motril. Transparencia
REFRESH-INTERVAL;VALUE=DURATION:PT1H
X-Robots-Tag:noindex
X-PUBLISHED-TTL:PT1H
BEGIN:VTIMEZONE
TZID:UTC
BEGIN:STANDARD
TZOFFSETFROM:+0000
TZOFFSETTO:+0000
TZNAME:UTC
DTSTART:20210101T000000
END:STANDARD
END:VTIMEZONE
BEGIN:VEVENT
DTSTART;TZID=UTC:20220729T093000
DTEND;TZID=UTC:20220729T093000
DTSTAMP:20260424T160328
CREATED:20220728T084532Z
LAST-MODIFIED:20220728T084532Z
UID:4310-1659087000-1659087000@transparencia.motril.es
SUMMARY:El Ayuntamiento de Motril celebrará sesión Ordinaria con los asuntos que se indican en el Orden del día adjunto
DESCRIPTION:
URL:https://transparencia.motril.es/evento/el-ayuntamiento-de-motril-celebrara-sesion-ordinaria-con-los-asuntos-que-se-indican-en-el-orden-del-dia-adjunto/
LOCATION:Ayuntamiento de Motril
END:VEVENT
BEGIN:VEVENT
DTSTART;TZID=UTC:20220729T203000
DTEND;TZID=UTC:20220729T203000
DTSTAMP:20260424T160328
CREATED:20220728T084557Z
LAST-MODIFIED:20220728T084557Z
UID:4312-1659126600-1659126600@transparencia.motril.es
SUMMARY:La alcaldesa de Motril\, Luisa García Chamorro\, junto a miembros del equipo de Gobierno visitan las actividades que se realizarán con motivo de la ‘Fiesta en el parque’
DESCRIPTION:
URL:https://transparencia.motril.es/evento/la-alcaldesa-de-motril-luisa-garcia-chamorro-junto-a-miembros-del-equipo-de-gobierno-visitan-las-actividades-que-se-realizaran-con-motivo-de-la-fiesta-en-el-parque/
LOCATION:Parque de los Pueblos de América
END:VEVENT
BEGIN:VEVENT
DTSTART;TZID=UTC:20220729T213000
DTEND;TZID=UTC:20220729T213000
DTSTAMP:20260424T160328
CREATED:20220728T084625Z
LAST-MODIFIED:20220728T084625Z
UID:4314-1659130200-1659130200@transparencia.motril.es
SUMMARY:La alcaldesa de Motril\, Luisa García Chamorro\, asiste a la gala de premios del Aula de Pensamiento Francisco Javier de Burgos.
DESCRIPTION:
URL:https://transparencia.motril.es/evento/la-alcaldesa-de-motril-luisa-garcia-chamorro-asiste-a-la-gala-de-premios-del-aula-de-pensamiento-francisco-javier-de-burgos/
LOCATION:hotel Impressive Playa Granada Golf
END:VEVENT
END:VCALENDAR