BEGIN:VCALENDAR
VERSION:2.0
PRODID:-//Ayuntamiento de Motril. Transparencia - ECPv6.15.20//NONSGML v1.0//EN
CALSCALE:GREGORIAN
METHOD:PUBLISH
X-ORIGINAL-URL:https://transparencia.motril.es
X-WR-CALDESC:Eventos para Ayuntamiento de Motril. Transparencia
REFRESH-INTERVAL;VALUE=DURATION:PT1H
X-Robots-Tag:noindex
X-PUBLISHED-TTL:PT1H
BEGIN:VTIMEZONE
TZID:UTC
BEGIN:STANDARD
TZOFFSETFROM:+0000
TZOFFSETTO:+0000
TZNAME:UTC
DTSTART:20210101T000000
END:STANDARD
END:VTIMEZONE
BEGIN:VEVENT
DTSTART;TZID=UTC:20220723T201500
DTEND;TZID=UTC:20220723T201500
DTSTAMP:20260424T160335
CREATED:20220722T120509Z
LAST-MODIFIED:20220722T120509Z
UID:4283-1658607300-1658607300@transparencia.motril.es
SUMMARY:La alcaldesa de Motril\, Luisa García Chamorro\, junto a la comisión de fiestas del barrio\, proceden al encendido de la chimenea del Cerrillo
DESCRIPTION:
URL:https://transparencia.motril.es/evento/la-alcaldesa-de-motril-luisa-garcia-chamorro-junto-a-la-comision-de-fiestas-del-barrio-proceden-al-encendido-de-la-chimenea-del-cerrillo/
LOCATION:Chimenea Cerrillo Jaime
END:VEVENT
BEGIN:VEVENT
DTSTART;TZID=UTC:20220723T210000
DTEND;TZID=UTC:20220723T210000
DTSTAMP:20260424T160335
CREATED:20220722T120534Z
LAST-MODIFIED:20220722T120534Z
UID:4286-1658610000-1658610000@transparencia.motril.es
SUMMARY:La alcaldesa de Motril\, Luisa García Chamorro\, asiste al concierto de Mariola Cantarero
DESCRIPTION:
URL:https://transparencia.motril.es/evento/la-alcaldesa-de-motril-luisa-garcia-chamorro-asiste-al-concierto-de-mariola-cantarero/
LOCATION:Teatro Calderón de la Barca\, Plaza Paulino Bellido\, s/n\, Motril\, Granada\, 18600\, España
END:VEVENT
BEGIN:VEVENT
DTSTART;TZID=UTC:20220723T224500
DTEND;TZID=UTC:20220723T224500
DTSTAMP:20260424T160335
CREATED:20220722T120602Z
LAST-MODIFIED:20220722T120602Z
UID:4288-1658616300-1658616300@transparencia.motril.es
SUMMARY:La alcaldesa de Motril\, Luisa García Chamorro\, asiste al evento ‘Apocalipsis 20.12’
DESCRIPTION:
URL:https://transparencia.motril.es/evento/la-alcaldesa-de-motril-luisa-garcia-chamorro-asiste-al-evento-apocalipsis-20-12/
LOCATION:Parque de los Pueblos de América
END:VEVENT
END:VCALENDAR