BEGIN:VCALENDAR
VERSION:2.0
PRODID:-//Ayuntamiento de Motril. Transparencia - ECPv6.15.20//NONSGML v1.0//EN
CALSCALE:GREGORIAN
METHOD:PUBLISH
X-ORIGINAL-URL:https://transparencia.motril.es
X-WR-CALDESC:Eventos para Ayuntamiento de Motril. Transparencia
REFRESH-INTERVAL;VALUE=DURATION:PT1H
X-Robots-Tag:noindex
X-PUBLISHED-TTL:PT1H
BEGIN:VTIMEZONE
TZID:UTC
BEGIN:STANDARD
TZOFFSETFROM:+0000
TZOFFSETTO:+0000
TZNAME:UTC
DTSTART:20210101T000000
END:STANDARD
END:VTIMEZONE
BEGIN:VEVENT
DTSTART;TZID=UTC:20220722T103000
DTEND;TZID=UTC:20220722T103000
DTSTAMP:20260424T160327
CREATED:20220721T110042Z
LAST-MODIFIED:20220721T110042Z
UID:4278-1658485800-1658485800@transparencia.motril.es
SUMMARY:Reunión interna
DESCRIPTION:
URL:https://transparencia.motril.es/evento/reunion-interna-78/
END:VEVENT
BEGIN:VEVENT
DTSTART;TZID=UTC:20220722T110000
DTEND;TZID=UTC:20220722T110000
DTSTAMP:20260424T160327
CREATED:20220721T110200Z
LAST-MODIFIED:20220721T110200Z
UID:4280-1658487600-1658487600@transparencia.motril.es
SUMMARY:Reunión interna
DESCRIPTION:
URL:https://transparencia.motril.es/evento/reunion-interna-79/
END:VEVENT
BEGIN:VEVENT
DTSTART;TZID=UTC:20220722T213000
DTEND;TZID=UTC:20220722T213000
DTSTAMP:20260424T160327
CREATED:20220721T105939Z
LAST-MODIFIED:20220721T105939Z
UID:4275-1658525400-1658525400@transparencia.motril.es
SUMMARY:La alcaldesa de Motril\, Luisa García Chamorro\, asiste a la inauguración y encendido del alumbrado de las fiestas de La Garnatilla
DESCRIPTION:
URL:https://transparencia.motril.es/evento/la-alcaldesa-de-motril-luisa-garcia-chamorro-asiste-a-la-inauguracion-y-encendido-del-alumbrado-de-las-fiestas-de-la-garnatilla/
LOCATION:La Garnatilla
END:VEVENT
END:VCALENDAR