BEGIN:VCALENDAR
VERSION:2.0
PRODID:-//Ayuntamiento de Motril. Transparencia - ECPv6.15.20//NONSGML v1.0//EN
CALSCALE:GREGORIAN
METHOD:PUBLISH
X-WR-CALNAME:Ayuntamiento de Motril. Transparencia
X-ORIGINAL-URL:https://transparencia.motril.es
X-WR-CALDESC:Eventos para Ayuntamiento de Motril. Transparencia
REFRESH-INTERVAL;VALUE=DURATION:PT1H
X-Robots-Tag:noindex
X-PUBLISHED-TTL:PT1H
BEGIN:VTIMEZONE
TZID:UTC
BEGIN:STANDARD
TZOFFSETFROM:+0000
TZOFFSETTO:+0000
TZNAME:UTC
DTSTART:20210101T000000
END:STANDARD
END:VTIMEZONE
BEGIN:VEVENT
DTSTART;TZID=UTC:20220721T093000
DTEND;TZID=UTC:20220721T093000
DTSTAMP:20260424T160201
CREATED:20220720T113922Z
LAST-MODIFIED:20220720T113922Z
UID:4266-1658395800-1658395800@transparencia.motril.es
SUMMARY:La alcaldesa de Motril\, Luisa García Chamorro\, junto a la Hermandad de Ntra. Sra. de la Cabeza\, presentan los cultos en honor a la Patrona de Motril
DESCRIPTION:
URL:https://transparencia.motril.es/evento/la-alcaldesa-de-motril-luisa-garcia-chamorro-junto-a-la-hermandad-de-ntra-sra-de-la-cabeza-presentan-los-cultos-en-honor-a-la-patrona-de-motril/
LOCATION:Santuario de Ntra. Sra. de la Cabeza
END:VEVENT
BEGIN:VEVENT
DTSTART;TZID=UTC:20220721T100000
DTEND;TZID=UTC:20220721T100000
DTSTAMP:20260424T160201
CREATED:20220720T113946Z
LAST-MODIFIED:20220720T113946Z
UID:4268-1658397600-1658397600@transparencia.motril.es
SUMMARY:: La alcaldesa de Motril\, Luisa García Chamorro\, junto al delegado de Políticas Sociales\, Manuel Montalvo\, y la teniente de alcalde de Acción Social\, Inmaculada Torres\, visitan las escuelas de verano
DESCRIPTION:
URL:https://transparencia.motril.es/evento/la-alcaldesa-de-motril-luisa-garcia-chamorro-junto-al-delegado-de-politicas-sociales-manuel-montalvo-y-la-teniente-de-alcalde-de-accion-social-inmaculada-torres-visitan-las-escuelas-de-verano/
LOCATION:Colegio Mariana Pineda
END:VEVENT
BEGIN:VEVENT
DTSTART;TZID=UTC:20220721T110000
DTEND;TZID=UTC:20220721T110000
DTSTAMP:20260424T160201
CREATED:20220720T114007Z
LAST-MODIFIED:20220720T114007Z
UID:4271-1658401200-1658401200@transparencia.motril.es
SUMMARY:Reunión interna
DESCRIPTION:
URL:https://transparencia.motril.es/evento/reunion-interna-76/
END:VEVENT
BEGIN:VEVENT
DTSTART;TZID=UTC:20220721T120000
DTEND;TZID=UTC:20220721T120000
DTSTAMP:20260424T160201
CREATED:20220720T114028Z
LAST-MODIFIED:20220720T114028Z
UID:4273-1658404800-1658404800@transparencia.motril.es
SUMMARY:Reunión interna
DESCRIPTION:
URL:https://transparencia.motril.es/evento/reunion-interna-77/
END:VEVENT
END:VCALENDAR