BEGIN:VCALENDAR
VERSION:2.0
PRODID:-//Ayuntamiento de Motril. Transparencia - ECPv6.15.20//NONSGML v1.0//EN
CALSCALE:GREGORIAN
METHOD:PUBLISH
X-ORIGINAL-URL:https://transparencia.motril.es
X-WR-CALDESC:Eventos para Ayuntamiento de Motril. Transparencia
REFRESH-INTERVAL;VALUE=DURATION:PT1H
X-Robots-Tag:noindex
X-PUBLISHED-TTL:PT1H
BEGIN:VTIMEZONE
TZID:UTC
BEGIN:STANDARD
TZOFFSETFROM:+0000
TZOFFSETTO:+0000
TZNAME:UTC
DTSTART:20210101T000000
END:STANDARD
END:VTIMEZONE
BEGIN:VEVENT
DTSTART;TZID=UTC:20220720T100000
DTEND;TZID=UTC:20220720T100000
DTSTAMP:20260424T160336
CREATED:20220719T110300Z
LAST-MODIFIED:20220719T110300Z
UID:4256-1658311200-1658311200@transparencia.motril.es
SUMMARY:La alcaldesa de Motril\, Luisa García Chamorro\, junto al teniente de alcalde de Obras Públicas\, Nicolás Navarro\, visitan el vial de Playa Granada
DESCRIPTION:
URL:https://transparencia.motril.es/evento/la-alcaldesa-de-motril-luisa-garcia-chamorro-junto-al-teniente-de-alcalde-de-obras-publicas-nicolas-navarro-visitan-el-vial-de-playa-granada/
LOCATION:Parque Severiano Ballesteros
END:VEVENT
BEGIN:VEVENT
DTSTART;TZID=UTC:20220720T120000
DTEND;TZID=UTC:20220720T120000
DTSTAMP:20260424T160336
CREATED:20220719T110326Z
LAST-MODIFIED:20220719T110326Z
UID:4259-1658318400-1658318400@transparencia.motril.es
SUMMARY:La alcaldesa de Motril\, Luisa García Chamorro\, junto con la teniente de alcalde de Acción Social\, Inmaculada Torres\, asisten a la clausura del programa de parentalidad positiva
DESCRIPTION:
URL:https://transparencia.motril.es/evento/la-alcaldesa-de-motril-luisa-garcia-chamorro-junto-con-la-teniente-de-alcalde-de-accion-social-inmaculada-torres-asisten-a-la-clausura-del-programa-de-parentalidad-positiva/
LOCATION:La Matraquilla
END:VEVENT
BEGIN:VEVENT
DTSTART;TZID=UTC:20220720T123000
DTEND;TZID=UTC:20220720T123000
DTSTAMP:20260424T160336
CREATED:20220719T110357Z
LAST-MODIFIED:20220719T110357Z
UID:4261-1658320200-1658320200@transparencia.motril.es
SUMMARY:: La alcaldesa de Motril\, Luisa García Chamorro\, junto a la concejal de Comercio\, Susana Peña\, asisten a la experiencia culinaria ARTCUA
DESCRIPTION:
URL:https://transparencia.motril.es/evento/la-alcaldesa-de-motril-luisa-garcia-chamorro-junto-a-la-concejal-de-comercio-susana-pena-asisten-a-la-experiencia-culinaria-artcua/
LOCATION:Centro de Desarrollo Turístico
END:VEVENT
BEGIN:VEVENT
DTSTART;TZID=UTC:20220720T220000
DTEND;TZID=UTC:20220720T220000
DTSTAMP:20260424T160336
CREATED:20220719T110428Z
LAST-MODIFIED:20220719T110428Z
UID:4263-1658354400-1658354400@transparencia.motril.es
SUMMARY:La alcaldesa de Motril\, Luisa García Chamorro\, asiste a la proyección de ‘Cruella’ enmarcado dentro del programa ‘Cine al fresquito’
DESCRIPTION:
URL:https://transparencia.motril.es/evento/la-alcaldesa-de-motril-luisa-garcia-chamorro-asiste-a-la-proyeccion-de-cruella-enmarcado-dentro-del-programa-cine-al-fresquito/
LOCATION:Paseo Rey Balduino
END:VEVENT
END:VCALENDAR