BEGIN:VCALENDAR
VERSION:2.0
PRODID:-//Ayuntamiento de Motril. Transparencia - ECPv6.15.20//NONSGML v1.0//EN
CALSCALE:GREGORIAN
METHOD:PUBLISH
X-ORIGINAL-URL:https://transparencia.motril.es
X-WR-CALDESC:Eventos para Ayuntamiento de Motril. Transparencia
REFRESH-INTERVAL;VALUE=DURATION:PT1H
X-Robots-Tag:noindex
X-PUBLISHED-TTL:PT1H
BEGIN:VTIMEZONE
TZID:UTC
BEGIN:STANDARD
TZOFFSETFROM:+0000
TZOFFSETTO:+0000
TZNAME:UTC
DTSTART:20210101T000000
END:STANDARD
END:VTIMEZONE
BEGIN:VEVENT
DTSTART;TZID=UTC:20220716T110000
DTEND;TZID=UTC:20220716T110000
DTSTAMP:20260424T160336
CREATED:20220715T120404Z
LAST-MODIFIED:20220715T120404Z
UID:4235-1657969200-1657969200@transparencia.motril.es
SUMMARY:La alcaldesa de Motril\, Luisa García Chamorro\, asiste a las IX Jornadas de Puertas Abiertas del Puerto de Motril.
DESCRIPTION:
URL:https://transparencia.motril.es/evento/la-alcaldesa-de-motril-luisa-garcia-chamorro-asiste-a-las-ix-jornadas-de-puertas-abiertas-del-puerto-de-motril/
LOCATION:Real Club Náutico\, Motril\, 18600\, España
END:VEVENT
BEGIN:VEVENT
DTSTART;TZID=UTC:20220716T123000
DTEND;TZID=UTC:20220716T123000
DTSTAMP:20260424T160336
CREATED:20220715T120428Z
LAST-MODIFIED:20220715T120428Z
UID:4237-1657974600-1657974600@transparencia.motril.es
SUMMARY:La alcaldesa de Motril\, Luisa García Chamorro\, asiste a la misa de la Virgen del Carmen
DESCRIPTION:
URL:https://transparencia.motril.es/evento/la-alcaldesa-de-motril-luisa-garcia-chamorro-asiste-a-la-misa-de-la-virgen-del-carmen/
LOCATION:Lonja Pesquera
END:VEVENT
BEGIN:VEVENT
DTSTART;TZID=UTC:20220716T201500
DTEND;TZID=UTC:20220716T201500
DTSTAMP:20260424T160336
CREATED:20220715T120511Z
LAST-MODIFIED:20220715T120511Z
UID:4240-1658002500-1658002500@transparencia.motril.es
SUMMARY:La alcaldesa de Motril\, Luisa García Chamorro\, asiste a la procesión marítimo-terrestre de la Virgen del Carmen
DESCRIPTION:
URL:https://transparencia.motril.es/evento/la-alcaldesa-de-motril-luisa-garcia-chamorro-asiste-a-la-procesion-maritimo-terrestre-de-la-virgen-del-carmen/
LOCATION:Parroquia Virgen del Carmen
END:VEVENT
END:VCALENDAR