BEGIN:VCALENDAR
VERSION:2.0
PRODID:-//Ayuntamiento de Motril. Transparencia - ECPv6.15.20//NONSGML v1.0//EN
CALSCALE:GREGORIAN
METHOD:PUBLISH
X-ORIGINAL-URL:https://transparencia.motril.es
X-WR-CALDESC:Eventos para Ayuntamiento de Motril. Transparencia
REFRESH-INTERVAL;VALUE=DURATION:PT1H
X-Robots-Tag:noindex
X-PUBLISHED-TTL:PT1H
BEGIN:VTIMEZONE
TZID:UTC
BEGIN:STANDARD
TZOFFSETFROM:+0000
TZOFFSETTO:+0000
TZNAME:UTC
DTSTART:20210101T000000
END:STANDARD
END:VTIMEZONE
BEGIN:VEVENT
DTSTART;TZID=UTC:20220630T093000
DTEND;TZID=UTC:20220630T093000
DTSTAMP:20260424T160324
CREATED:20220629T103735Z
LAST-MODIFIED:20220629T103735Z
UID:4126-1656581400-1656581400@transparencia.motril.es
SUMMARY:La alcaldesa de Motril\, Luisa García Chamorro\, junto al concejal de Deportes\, Daniel Ortega\, presentan el XXVIII Campeonato de Andalucía de Clubes sub-16
DESCRIPTION:
URL:https://transparencia.motril.es/evento/la-alcaldesa-de-motril-luisa-garcia-chamorro-junto-al-concejal-de-deportes-daniel-ortega-presentan-el-xxviii-campeonato-de-andalucia-de-clubes-sub-16/
LOCATION:Pabellón de Deportes
END:VEVENT
BEGIN:VEVENT
DTSTART;TZID=UTC:20220630T101500
DTEND;TZID=UTC:20220630T170000
DTSTAMP:20260424T160324
CREATED:20220629T103817Z
LAST-MODIFIED:20220629T103817Z
UID:4128-1656584100-1656608400@transparencia.motril.es
SUMMARY:La alcaldesa de Motril\, Luisa García Chamorro\, junto al teniente de alcalde de Turismo\, José Lemos\, y la teniente de alcalde de Mantenimiento\, Débora Juárez\, visitan las instalaciones de Ferrovial\, donde se encuentran las luminarias que se instalarán en Motril.
DESCRIPTION:
URL:https://transparencia.motril.es/evento/la-alcaldesa-de-motril-luisa-garcia-chamorro-junto-al-teniente-de-alcalde-de-turismo-jose-lemos-y-la-teniente-de-alcalde-de-mantenimiento-debora-juarez-visitan-las-instalaciones-de-ferrovial-do/
LOCATION:Polígono Industrial Alborán (frente a carpintería DMadera)
END:VEVENT
BEGIN:VEVENT
DTSTART;TZID=UTC:20220630T123000
DTEND;TZID=UTC:20220630T123000
DTSTAMP:20260424T160324
CREATED:20220629T103850Z
LAST-MODIFIED:20220629T103850Z
UID:4131-1656592200-1656592200@transparencia.motril.es
SUMMARY:La alcaldesa de Motril\, Luisa García Chamorro\, asiste al acto de entrega de la medalla de oro de Carchuna y Calahonda a la Comisaría de Policía Nacional de Motril
DESCRIPTION:
URL:https://transparencia.motril.es/evento/la-alcaldesa-de-motril-luisa-garcia-chamorro-asiste-al-acto-de-entrega-de-la-medalla-de-oro-de-carchuna-y-calahonda-a-la-comisaria-de-policia-nacional-de-motril/
LOCATION:Castillo de Carchuna
END:VEVENT
END:VCALENDAR