BEGIN:VCALENDAR
VERSION:2.0
PRODID:-//Ayuntamiento de Motril. Transparencia - ECPv6.15.20//NONSGML v1.0//EN
CALSCALE:GREGORIAN
METHOD:PUBLISH
X-ORIGINAL-URL:https://transparencia.motril.es
X-WR-CALDESC:Eventos para Ayuntamiento de Motril. Transparencia
REFRESH-INTERVAL;VALUE=DURATION:PT1H
X-Robots-Tag:noindex
X-PUBLISHED-TTL:PT1H
BEGIN:VTIMEZONE
TZID:UTC
BEGIN:STANDARD
TZOFFSETFROM:+0000
TZOFFSETTO:+0000
TZNAME:UTC
DTSTART:20210101T000000
END:STANDARD
END:VTIMEZONE
BEGIN:VEVENT
DTSTART;TZID=UTC:20220628T090000
DTEND;TZID=UTC:20220628T090000
DTSTAMP:20260424T160325
CREATED:20220627T110805Z
LAST-MODIFIED:20220627T110805Z
UID:4110-1656406800-1656406800@transparencia.motril.es
SUMMARY:Reunión interna
DESCRIPTION:
URL:https://transparencia.motril.es/evento/reunion-interna-66/
END:VEVENT
BEGIN:VEVENT
DTSTART;TZID=UTC:20220628T100000
DTEND;TZID=UTC:20220628T100000
DTSTAMP:20260424T160325
CREATED:20220627T111101Z
LAST-MODIFIED:20220627T111101Z
UID:4112-1656410400-1656410400@transparencia.motril.es
SUMMARY:La alcaldesa de Motril recibe al nuevo jefe del Escuadrón de Vigilancia Aérea EVA 9\, Miguel Antonio Castro Arjona
DESCRIPTION:
URL:https://transparencia.motril.es/evento/la-alcaldesa-de-motril-recibe-al-nuevo-jefe-del-escuadron-de-vigilancia-aerea-eva-9-miguel-antonio-castro-arjona/
LOCATION:Despacho alcaldesa Ayuntamiento de Motril
END:VEVENT
BEGIN:VEVENT
DTSTART;TZID=UTC:20220628T103000
DTEND;TZID=UTC:20220628T103000
DTSTAMP:20260424T160325
CREATED:20220627T111128Z
LAST-MODIFIED:20220627T111128Z
UID:4115-1656412200-1656412200@transparencia.motril.es
SUMMARY:Reunión interna
DESCRIPTION:
URL:https://transparencia.motril.es/evento/reunion-interna-67/
END:VEVENT
BEGIN:VEVENT
DTSTART;TZID=UTC:20220628T120000
DTEND;TZID=UTC:20220628T120000
DTSTAMP:20260424T160325
CREATED:20220627T111200Z
LAST-MODIFIED:20220627T111200Z
UID:4117-1656417600-1656417600@transparencia.motril.es
SUMMARY:Reunión interna
DESCRIPTION:
URL:https://transparencia.motril.es/evento/reunion-interna-68/
END:VEVENT
END:VCALENDAR