BEGIN:VCALENDAR
VERSION:2.0
PRODID:-//Ayuntamiento de Motril. Transparencia - ECPv6.15.20//NONSGML v1.0//EN
CALSCALE:GREGORIAN
METHOD:PUBLISH
X-WR-CALNAME:Ayuntamiento de Motril. Transparencia
X-ORIGINAL-URL:https://transparencia.motril.es
X-WR-CALDESC:Eventos para Ayuntamiento de Motril. Transparencia
REFRESH-INTERVAL;VALUE=DURATION:PT1H
X-Robots-Tag:noindex
X-PUBLISHED-TTL:PT1H
BEGIN:VTIMEZONE
TZID:UTC
BEGIN:STANDARD
TZOFFSETFROM:+0000
TZOFFSETTO:+0000
TZNAME:UTC
DTSTART:20210101T000000
END:STANDARD
END:VTIMEZONE
BEGIN:VEVENT
DTSTART;TZID=UTC:20220619T093000
DTEND;TZID=UTC:20220619T093000
DTSTAMP:20260424T222036
CREATED:20220617T113129Z
LAST-MODIFIED:20220617T113129Z
UID:4069-1655631000-1655631000@transparencia.motril.es
SUMMARY:La alcaldesa de Motril\, Luisa García Chamorro\, ejercerá su derecho al voto en el Colegio del Ave María Santa Adela
DESCRIPTION:
URL:https://transparencia.motril.es/evento/la-alcaldesa-de-motril-luisa-garcia-chamorro-ejercera-su-derecho-al-voto-en-el-colegio-del-ave-maria-santa-adela/
LOCATION:Colegio Ave María
END:VEVENT
BEGIN:VEVENT
DTSTART;TZID=UTC:20220619T103000
DTEND;TZID=UTC:20220619T103000
DTSTAMP:20260424T222036
CREATED:20220617T113152Z
LAST-MODIFIED:20220617T113152Z
UID:4072-1655634600-1655634600@transparencia.motril.es
SUMMARY:La alcaldesa de Motril\, Luisa García Chamorro\, asiste a la misa con motivo del Corpus Christi
DESCRIPTION:
URL:https://transparencia.motril.es/evento/la-alcaldesa-de-motril-luisa-garcia-chamorro-asiste-a-la-misa-con-motivo-del-corpus-christi/
LOCATION:Iglesia Mayor de la Encarnación\, Plaza de España\, Motril\, Granada\, 18600\, España
END:VEVENT
BEGIN:VEVENT
DTSTART;TZID=UTC:20220619T113000
DTEND;TZID=UTC:20220619T113000
DTSTAMP:20260424T222036
CREATED:20220617T113224Z
LAST-MODIFIED:20220617T113224Z
UID:4074-1655638200-1655638200@transparencia.motril.es
SUMMARY:La alcaldesa de Motril\, Luisa García Chamorro\, junto a miembros del equipo de Gobierno\, asisten al Festival Aéreo
DESCRIPTION:
URL:https://transparencia.motril.es/evento/la-alcaldesa-de-motril-luisa-garcia-chamorro-junto-a-miembros-del-equipo-de-gobierno-asisten-al-festival-aereo/
LOCATION:Playa de Poniente\, junto al chiringuito Espeto
END:VEVENT
BEGIN:VEVENT
DTSTART;TZID=UTC:20220619T173000
DTEND;TZID=UTC:20220619T173000
DTSTAMP:20260424T222036
CREATED:20220617T113244Z
LAST-MODIFIED:20220617T113244Z
UID:4077-1655659800-1655659800@transparencia.motril.es
SUMMARY:A lo largo de la tarde\, la alcaldesa de Motril\, Luisa García Chamorro\, visitará diferentes colegios electorales
DESCRIPTION:
URL:https://transparencia.motril.es/evento/a-lo-largo-de-la-tarde-la-alcaldesa-de-motril-luisa-garcia-chamorro-visitara-diferentes-colegios-electorales/
END:VEVENT
END:VCALENDAR