BEGIN:VCALENDAR
VERSION:2.0
PRODID:-//Ayuntamiento de Motril. Transparencia - ECPv6.15.20//NONSGML v1.0//EN
CALSCALE:GREGORIAN
METHOD:PUBLISH
X-ORIGINAL-URL:https://transparencia.motril.es
X-WR-CALDESC:Eventos para Ayuntamiento de Motril. Transparencia
REFRESH-INTERVAL;VALUE=DURATION:PT1H
X-Robots-Tag:noindex
X-PUBLISHED-TTL:PT1H
BEGIN:VTIMEZONE
TZID:UTC
BEGIN:STANDARD
TZOFFSETFROM:+0000
TZOFFSETTO:+0000
TZNAME:UTC
DTSTART:20210101T000000
END:STANDARD
END:VTIMEZONE
BEGIN:VEVENT
DTSTART;TZID=UTC:20220618T190000
DTEND;TZID=UTC:20220618T190000
DTSTAMP:20260424T222311
CREATED:20220617T112955Z
LAST-MODIFIED:20220617T112955Z
UID:4062-1655578800-1655578800@transparencia.motril.es
SUMMARY:La alcaldesa de Motril\, Luisa García Chamorro\, junto al concejal de Deportes\, Daniel Ortega\, asiste a la V Gala del Club de Baloncesto Costa Motril
DESCRIPTION:
URL:https://transparencia.motril.es/evento/la-alcaldesa-de-motril-luisa-garcia-chamorro-junto-al-concejal-de-deportes-daniel-ortega-asiste-a-la-v-gala-del-club-de-baloncesto-costa-motril/
LOCATION:Teatro Calderón de la Barca\, Plaza Paulino Bellido\, s/n\, Motril\, Granada\, 18600\, España
END:VEVENT
BEGIN:VEVENT
DTSTART;TZID=UTC:20220618T201500
DTEND;TZID=UTC:20220618T201500
DTSTAMP:20260424T222311
CREATED:20220617T113027Z
LAST-MODIFIED:20220617T113027Z
UID:4064-1655583300-1655583300@transparencia.motril.es
SUMMARY:La alcaldesa de Motril\, Luisa García Chamorro\, asiste a la convivencia de la Hermandad de Nuestra Señora de las Angustias
DESCRIPTION:
URL:https://transparencia.motril.es/evento/la-alcaldesa-de-motril-luisa-garcia-chamorro-asiste-a-la-convivencia-de-la-hermandad-de-nuestra-senora-de-las-angustias/
LOCATION:Plaza Ermita Ntra. Sra. de las Angustias
END:VEVENT
END:VCALENDAR