BEGIN:VCALENDAR
VERSION:2.0
PRODID:-//Ayuntamiento de Motril. Transparencia - ECPv6.15.20//NONSGML v1.0//EN
CALSCALE:GREGORIAN
METHOD:PUBLISH
X-WR-CALNAME:Ayuntamiento de Motril. Transparencia
X-ORIGINAL-URL:https://transparencia.motril.es
X-WR-CALDESC:Eventos para Ayuntamiento de Motril. Transparencia
REFRESH-INTERVAL;VALUE=DURATION:PT1H
X-Robots-Tag:noindex
X-PUBLISHED-TTL:PT1H
BEGIN:VTIMEZONE
TZID:UTC
BEGIN:STANDARD
TZOFFSETFROM:+0000
TZOFFSETTO:+0000
TZNAME:UTC
DTSTART:20210101T000000
END:STANDARD
END:VTIMEZONE
BEGIN:VEVENT
DTSTART;TZID=UTC:20220611T204500
DTEND;TZID=UTC:20220611T204500
DTSTAMP:20260424T222033
CREATED:20220610T120214Z
LAST-MODIFIED:20220610T120214Z
UID:4039-1654980300-1654980300@transparencia.motril.es
SUMMARY:La alcaldesa de Motril\, Luisa García Chamorro\, junto al concejal de Deportes\, Daniel Ortega\, asiste a la final de la Copa Alcaldesa
DESCRIPTION:
URL:https://transparencia.motril.es/evento/la-alcaldesa-de-motril-luisa-garcia-chamorro-junto-al-concejal-de-deportes-daniel-ortega-asiste-a-la-final-de-la-copa-alcaldesa/
LOCATION:Estadio Municipal Escribano Castilla
END:VEVENT
BEGIN:VEVENT
DTSTART;TZID=UTC:20220611T210000
DTEND;TZID=UTC:20220611T210000
DTSTAMP:20260424T222033
CREATED:20220617T113103Z
LAST-MODIFIED:20220617T113103Z
UID:4067-1654981200-1654981200@transparencia.motril.es
SUMMARY:La alcaldesa de Motril\, Luisa García Chamorro\, asiste a la entrega de trofeos del Campeonato de Andalucía sub-14 de atletismo
DESCRIPTION:
URL:https://transparencia.motril.es/evento/la-alcaldesa-de-motril-luisa-garcia-chamorro-asiste-a-la-entrega-de-trofeos-del-campeonato-de-andalucia-sub-14-de-atletismo/
LOCATION:Estadio Municipal de Atletismo ‘Emilio Hidalgo’
END:VEVENT
END:VCALENDAR