BEGIN:VCALENDAR
VERSION:2.0
PRODID:-//Ayuntamiento de Motril. Transparencia - ECPv6.15.20//NONSGML v1.0//EN
CALSCALE:GREGORIAN
METHOD:PUBLISH
X-WR-CALNAME:Ayuntamiento de Motril. Transparencia
X-ORIGINAL-URL:https://transparencia.motril.es
X-WR-CALDESC:Eventos para Ayuntamiento de Motril. Transparencia
REFRESH-INTERVAL;VALUE=DURATION:PT1H
X-Robots-Tag:noindex
X-PUBLISHED-TTL:PT1H
BEGIN:VTIMEZONE
TZID:UTC
BEGIN:STANDARD
TZOFFSETFROM:+0000
TZOFFSETTO:+0000
TZNAME:UTC
DTSTART:20210101T000000
END:STANDARD
END:VTIMEZONE
BEGIN:VEVENT
DTSTART;TZID=UTC:20220607T110000
DTEND;TZID=UTC:20220607T110000
DTSTAMP:20260424T222011
CREATED:20220606T122251Z
LAST-MODIFIED:20220606T122251Z
UID:3995-1654599600-1654599600@transparencia.motril.es
SUMMARY:La alcaldesa de Motril presenta el campeonato de Crossfit 'Fittes Box'
DESCRIPTION:
URL:https://transparencia.motril.es/evento/la-alcaldesa-de-motril-presenta-el-campeonato-de-crossfit-fittes-box/
LOCATION:Salón de Protocolo\, Plaza de España\, 1\, Granada\, 18600\, España
END:VEVENT
BEGIN:VEVENT
DTSTART;TZID=UTC:20220607T113000
DTEND;TZID=UTC:20220607T113000
DTSTAMP:20260424T222011
CREATED:20220606T122339Z
LAST-MODIFIED:20220606T122339Z
UID:3997-1654601400-1654601400@transparencia.motril.es
SUMMARY:La alcaldesa de Motril asiste a la presentación de la campaña de promoción de cruceros
DESCRIPTION:
URL:https://transparencia.motril.es/evento/la-alcaldesa-de-motril-asiste-a-la-presentacion-de-la-campana-de-promocion-de-cruceros/
LOCATION:Autoridad Portuaria de Motril\, Recinto Portuario\, s/n\, Motril\, Granada\, 18613\, España
END:VEVENT
BEGIN:VEVENT
DTSTART;TZID=UTC:20220607T130000
DTEND;TZID=UTC:20220607T130000
DTSTAMP:20260424T222011
CREATED:20220606T122627Z
LAST-MODIFIED:20220606T122627Z
UID:4003-1654606800-1654606800@transparencia.motril.es
SUMMARY:Reunión interna
DESCRIPTION:
URL:https://transparencia.motril.es/evento/reunion-interna-63/
END:VEVENT
BEGIN:VEVENT
DTSTART;TZID=UTC:20220607T180000
DTEND;TZID=UTC:20220607T180000
DTSTAMP:20260424T222011
CREATED:20220606T122429Z
LAST-MODIFIED:20220606T122429Z
UID:3999-1654624800-1654624800@transparencia.motril.es
SUMMARY:La alcaldesa de Motril asiste a la clausura de la Universidad de Mayores
DESCRIPTION:
URL:https://transparencia.motril.es/evento/la-alcaldesa-de-motril-asiste-a-la-clausura-de-la-universidad-de-mayores/
LOCATION:Salón de Plenos\, Plaza de España\, 1\, Granada\, 18600\, España
END:VEVENT
BEGIN:VEVENT
DTSTART;TZID=UTC:20220607T190000
DTEND;TZID=UTC:20220607T190000
DTSTAMP:20260424T222011
CREATED:20220606T122545Z
LAST-MODIFIED:20220606T122545Z
UID:4001-1654628400-1654628400@transparencia.motril.es
SUMMARY:La alcaldesa de Motril recibe al equipo Mutrayil en su categoría cadete
DESCRIPTION:
URL:https://transparencia.motril.es/evento/la-alcaldesa-de-motril-recibe-al-equipo-mutrayil-en-su-categoria-cadete/
LOCATION:Salón de Protocolo\, Plaza de España\, 1\, Granada\, 18600\, España
END:VEVENT
END:VCALENDAR