BEGIN:VCALENDAR
VERSION:2.0
PRODID:-//Ayuntamiento de Motril. Transparencia - ECPv6.15.20//NONSGML v1.0//EN
CALSCALE:GREGORIAN
METHOD:PUBLISH
X-WR-CALNAME:Ayuntamiento de Motril. Transparencia
X-ORIGINAL-URL:https://transparencia.motril.es
X-WR-CALDESC:Eventos para Ayuntamiento de Motril. Transparencia
REFRESH-INTERVAL;VALUE=DURATION:PT1H
X-Robots-Tag:noindex
X-PUBLISHED-TTL:PT1H
BEGIN:VTIMEZONE
TZID:UTC
BEGIN:STANDARD
TZOFFSETFROM:+0000
TZOFFSETTO:+0000
TZNAME:UTC
DTSTART:20210101T000000
END:STANDARD
END:VTIMEZONE
BEGIN:VEVENT
DTSTART;TZID=UTC:20220528T110000
DTEND;TZID=UTC:20220528T170000
DTSTAMP:20260425T001018
CREATED:20220527T123325Z
LAST-MODIFIED:20220527T123325Z
UID:3944-1653735600-1653757200@transparencia.motril.es
SUMMARY:La alcaldesa de Motril\, Luisa García Chamorro\, y miembros del equipo de Gobierno asiste al acto de Jura de Bandera de Personal Civil
DESCRIPTION:
URL:https://transparencia.motril.es/evento/la-alcaldesa-de-motril-luisa-garcia-chamorro-y-miembros-del-equipo-de-gobierno-asiste-al-acto-de-jura-de-bandera-de-personal-civil/
LOCATION:Plaza de la Coronación
END:VEVENT
BEGIN:VEVENT
DTSTART;TZID=UTC:20220528T120000
DTEND;TZID=UTC:20220528T120000
DTSTAMP:20260425T001018
CREATED:20220527T123412Z
LAST-MODIFIED:20220527T123412Z
UID:3946-1653739200-1653739200@transparencia.motril.es
SUMMARY:La alcaldesa de Motril\, Luisa García Chamorro\, junto con la presidenta de la Entidad Local Autónoma de Carchuna y Calahonda\, Concepción Abarca\, asisten a la Copa de Andalucía de Clubes Benjamín
DESCRIPTION:
URL:https://transparencia.motril.es/evento/la-alcaldesa-de-motril-luisa-garcia-chamorro-junto-con-la-presidenta-de-la-entidad-local-autonoma-de-carchuna-y-calahonda-concepcion-abarca-asisten-a-la-copa-de-andalucia-de-clubes-benjamin/
LOCATION:Campo de fútbol de Calahonda
CATEGORIES:Actos
END:VEVENT
BEGIN:VEVENT
DTSTART;TZID=UTC:20220528T140000
DTEND;TZID=UTC:20220528T140000
DTSTAMP:20260425T001018
CREATED:20220527T123243Z
LAST-MODIFIED:20220527T123243Z
UID:3942-1653746400-1653746400@transparencia.motril.es
SUMMARY:La alcaldesa de Motril\, Luisa García Chamorro\, asiste al V aniversario de la Asociación APROIMAGEN
DESCRIPTION:
URL:https://transparencia.motril.es/evento/la-alcaldesa-de-motril-luisa-garcia-chamorro-asiste-al-v-aniversario-de-la-asociacion-aproimagen/
LOCATION:Real Club Náutico\, Motril\, 18600\, España
CATEGORIES:Actos
END:VEVENT
BEGIN:VEVENT
DTSTART;TZID=UTC:20220528T203000
DTEND;TZID=UTC:20220528T203000
DTSTAMP:20260425T001018
CREATED:20220527T123520Z
LAST-MODIFIED:20220527T123520Z
UID:3949-1653769800-1653769800@transparencia.motril.es
SUMMARY:La alcaldesa de Motril\, Luisa García Chamorro\, asiste a la solemne misa y posterior procesión en honor a San Isidro Labrador\, patrón de Puntalón
DESCRIPTION:
URL:https://transparencia.motril.es/evento/la-alcaldesa-de-motril-luisa-garcia-chamorro-asiste-a-la-solemne-misa-y-posterior-procesion-en-honor-a-san-isidro-labrador-patron-de-puntalon/
LOCATION:Puntalón
END:VEVENT
END:VCALENDAR