BEGIN:VCALENDAR
VERSION:2.0
PRODID:-//Ayuntamiento de Motril. Transparencia - ECPv6.15.20//NONSGML v1.0//EN
CALSCALE:GREGORIAN
METHOD:PUBLISH
X-WR-CALNAME:Ayuntamiento de Motril. Transparencia
X-ORIGINAL-URL:https://transparencia.motril.es
X-WR-CALDESC:Eventos para Ayuntamiento de Motril. Transparencia
REFRESH-INTERVAL;VALUE=DURATION:PT1H
X-Robots-Tag:noindex
X-PUBLISHED-TTL:PT1H
BEGIN:VTIMEZONE
TZID:UTC
BEGIN:STANDARD
TZOFFSETFROM:+0000
TZOFFSETTO:+0000
TZNAME:UTC
DTSTART:20210101T000000
END:STANDARD
END:VTIMEZONE
BEGIN:VEVENT
DTSTART;TZID=UTC:20220526T100000
DTEND;TZID=UTC:20220526T170000
DTSTAMP:20260425T001031
CREATED:20220525T113739Z
LAST-MODIFIED:20220525T113739Z
UID:3938-1653559200-1653584400@transparencia.motril.es
SUMMARY:Reunión interna
DESCRIPTION:
URL:https://transparencia.motril.es/evento/reunion-interna-56/
END:VEVENT
BEGIN:VEVENT
DTSTART;TZID=UTC:20220526T110000
DTEND;TZID=UTC:20220526T110000
DTSTAMP:20260425T001031
CREATED:20220525T113457Z
LAST-MODIFIED:20220525T122742Z
UID:3930-1653562800-1653562800@transparencia.motril.es
SUMMARY:La alcaldesa de Motril\, Luisa García Chamorro\, asiste a la inauguración de la nueva tienda ‘Druni’
DESCRIPTION:
URL:https://transparencia.motril.es/evento/la-alcaldesa-de-motril-luisa-garcia-chamorro-asiste-a-la-inauguracion-de-la-nueva-tienda-druni/
LOCATION:Calle Marqués de Vistabella
CATEGORIES:Comercio
END:VEVENT
BEGIN:VEVENT
DTSTART;TZID=UTC:20220526T113000
DTEND;TZID=UTC:20220526T113000
DTSTAMP:20260425T001031
CREATED:20220525T113543Z
LAST-MODIFIED:20220525T113543Z
UID:3933-1653564600-1653564600@transparencia.motril.es
SUMMARY:La alcaldesa de Motril\, Luisa García Chamorro\, junto con el teniente de alcalde de Obras Públicas\, Nicolás Navarro\, la teniente de alcalde de Parques y Jardines\, Concepción Abarca\, y miembros del equipo de Gobierno visitan el Jardín Colección de Cactus y Suculentas María Teresa
DESCRIPTION:
URL:https://transparencia.motril.es/evento/la-alcaldesa-de-motril-luisa-garcia-chamorro-junto-con-el-teniente-de-alcalde-de-obras-publicas-nicolas-navarro-la-teniente-de-alcalde-de-parques-y-jardines-concepcion-abarca-y-miembros-del-equi/
LOCATION:Parque de los Pueblos de América
END:VEVENT
BEGIN:VEVENT
DTSTART;TZID=UTC:20220526T121500
DTEND;TZID=UTC:20220526T170000
DTSTAMP:20260425T001031
CREATED:20220525T113807Z
LAST-MODIFIED:20220525T113807Z
UID:3940-1653567300-1653584400@transparencia.motril.es
SUMMARY:Reunión interna
DESCRIPTION:
URL:https://transparencia.motril.es/evento/reunion-interna-57/
END:VEVENT
BEGIN:VEVENT
DTSTART;TZID=UTC:20220526T200000
DTEND;TZID=UTC:20220526T200000
DTSTAMP:20260425T001031
CREATED:20220525T113628Z
LAST-MODIFIED:20220525T113628Z
UID:3936-1653595200-1653595200@transparencia.motril.es
SUMMARY:La alcaldesa de Motril\, Luisa García Chamorro\, y miembros del equipo de Gobierno asisten a la Eucaristía por el beato mártir D. Manuel Vázquez Alfalla
DESCRIPTION:
URL:https://transparencia.motril.es/evento/la-alcaldesa-de-motril-luisa-garcia-chamorro-y-miembros-del-equipo-de-gobierno-asisten-a-la-eucaristia-por-el-beato-martir-d-manuel-vazquez-alfalla/
LOCATION:Iglesia Mayor de la Encarnación\, Plaza de España\, Motril\, Granada\, 18600\, España
CATEGORIES:Actos
END:VEVENT
END:VCALENDAR