BEGIN:VCALENDAR
VERSION:2.0
PRODID:-//Ayuntamiento de Motril. Transparencia - ECPv6.15.20//NONSGML v1.0//EN
CALSCALE:GREGORIAN
METHOD:PUBLISH
X-ORIGINAL-URL:https://transparencia.motril.es
X-WR-CALDESC:Eventos para Ayuntamiento de Motril. Transparencia
REFRESH-INTERVAL;VALUE=DURATION:PT1H
X-Robots-Tag:noindex
X-PUBLISHED-TTL:PT1H
BEGIN:VTIMEZONE
TZID:UTC
BEGIN:STANDARD
TZOFFSETFROM:+0000
TZOFFSETTO:+0000
TZNAME:UTC
DTSTART:20210101T000000
END:STANDARD
END:VTIMEZONE
BEGIN:VEVENT
DTSTART;TZID=UTC:20220525T100000
DTEND;TZID=UTC:20220525T100000
DTSTAMP:20260425T001157
CREATED:20220524T103910Z
LAST-MODIFIED:20220524T103910Z
UID:3926-1653472800-1653472800@transparencia.motril.es
SUMMARY:Reunión interna
DESCRIPTION:
URL:https://transparencia.motril.es/evento/reunion-interna-55/
END:VEVENT
BEGIN:VEVENT
DTSTART;TZID=UTC:20220525T113000
DTEND;TZID=UTC:20220525T113000
DTSTAMP:20260425T001157
CREATED:20220524T103702Z
LAST-MODIFIED:20220524T103702Z
UID:3922-1653478200-1653478200@transparencia.motril.es
SUMMARY:La alcaldesa de Motril\, Luisa García Chamorro\, junto a miembros del equipo de Gobierno\, asisten al la presentación del catálogo y la exposición de Ramón Portillo
DESCRIPTION:
URL:https://transparencia.motril.es/evento/la-alcaldesa-de-motril-luisa-garcia-chamorro-junto-a-miembros-del-equipo-de-gobierno-asisten-al-la-presentacion-del-catalogo-y-la-exposicion-de-ramon-portillo/
LOCATION:Casa de la Condesa Torre Isabel
CATEGORIES:Cultura
END:VEVENT
BEGIN:VEVENT
DTSTART;TZID=UTC:20220525T180000
DTEND;TZID=UTC:20220525T180000
DTSTAMP:20260425T001157
CREATED:20220524T103735Z
LAST-MODIFIED:20220524T103735Z
UID:3924-1653501600-1653501600@transparencia.motril.es
SUMMARY:La alcaldesa de Motril\, Luisa García Chamorro\, asiste a las Jornadas Salud y Mujer
DESCRIPTION:
URL:https://transparencia.motril.es/evento/la-alcaldesa-de-motril-luisa-garcia-chamorro-asiste-a-las-jornadas-salud-y-mujer/
LOCATION:Museo Hernandez Quero
CATEGORIES:Actos
END:VEVENT
END:VCALENDAR