BEGIN:VCALENDAR
VERSION:2.0
PRODID:-//Ayuntamiento de Motril. Transparencia - ECPv6.15.20//NONSGML v1.0//EN
CALSCALE:GREGORIAN
METHOD:PUBLISH
X-WR-CALNAME:Ayuntamiento de Motril. Transparencia
X-ORIGINAL-URL:https://transparencia.motril.es
X-WR-CALDESC:Eventos para Ayuntamiento de Motril. Transparencia
REFRESH-INTERVAL;VALUE=DURATION:PT1H
X-Robots-Tag:noindex
X-PUBLISHED-TTL:PT1H
BEGIN:VTIMEZONE
TZID:UTC
BEGIN:STANDARD
TZOFFSETFROM:+0000
TZOFFSETTO:+0000
TZNAME:UTC
DTSTART:20210101T000000
END:STANDARD
END:VTIMEZONE
BEGIN:VEVENT
DTSTART;TZID=UTC:20220518T100000
DTEND;TZID=UTC:20220518T110000
DTSTAMP:20260425T001017
CREATED:20220517T121240Z
LAST-MODIFIED:20220517T121240Z
UID:3882-1652868000-1652871600@transparencia.motril.es
SUMMARY:La alcaldesa de Motril\, Luisa García Chamorro\, la teniente de alcalde de Igualdad\, Inmaculada Torres\, el concejal de Cultura\, Miguel Ángel Muñoz Pino\, el concejal de Juventud\, Alejandro Vilar  presentan TropicArt 3.0 junto a María Toret en representación de la Asociación TropicArt
DESCRIPTION:
URL:https://transparencia.motril.es/evento/la-alcaldesa-de-motril-luisa-garcia-chamorro-la-teniente-de-alcalde-de-igualdad-inmaculada-torres-el-concejal-de-cultura-miguel-angel-munoz-pino-el-concejal-de-juventud-alejandro-vilar-present/
LOCATION:Salón de Protocolo\, Plaza de España\, 1\, Granada\, 18600\, España
CATEGORIES:Actos
END:VEVENT
BEGIN:VEVENT
DTSTART;TZID=UTC:20220518T160000
DTEND;TZID=UTC:20220518T170000
DTSTAMP:20260425T001017
CREATED:20220517T121324Z
LAST-MODIFIED:20220517T121417Z
UID:3884-1652889600-1652893200@transparencia.motril.es
SUMMARY:La alcaldesa de Motril\, Luisa García Chamorro inaugura el Taller de Recursos Hidrográficos organizado por la Junta de Andalucía
DESCRIPTION:
URL:https://transparencia.motril.es/evento/la-alcaldesa-de-motril-luisa-garcia-chamorro-inaugura-el-taller-de-recursos-hidrograficos-organizado-por-la-junta-de-andalucia/
LOCATION:Centro de Desarrollo Turístico
CATEGORIES:Actos
END:VEVENT
END:VCALENDAR