BEGIN:VCALENDAR
VERSION:2.0
PRODID:-//Ayuntamiento de Motril. Transparencia - ECPv6.15.20//NONSGML v1.0//EN
CALSCALE:GREGORIAN
METHOD:PUBLISH
X-ORIGINAL-URL:https://transparencia.motril.es
X-WR-CALDESC:Eventos para Ayuntamiento de Motril. Transparencia
REFRESH-INTERVAL;VALUE=DURATION:PT1H
X-Robots-Tag:noindex
X-PUBLISHED-TTL:PT1H
BEGIN:VTIMEZONE
TZID:UTC
BEGIN:STANDARD
TZOFFSETFROM:+0000
TZOFFSETTO:+0000
TZNAME:UTC
DTSTART:20210101T000000
END:STANDARD
END:VTIMEZONE
BEGIN:VEVENT
DTSTART;TZID=UTC:20220509T120000
DTEND;TZID=UTC:20220509T130000
DTSTAMP:20260425T001232
CREATED:20220506T104442Z
LAST-MODIFIED:20220506T104442Z
UID:3809-1652097600-1652101200@transparencia.motril.es
SUMMARY:La alcaldesa de Motril visita el centro Santo Rosario de Motril por ser colegio cardioprotegido
DESCRIPTION:
URL:https://transparencia.motril.es/evento/la-alcaldesa-de-motril-visita-el-centro-santo-rosario-de-motril-por-ser-colegio-cardioprotegido/
LOCATION:Colegio Santo Rosario
END:VEVENT
END:VCALENDAR