BEGIN:VCALENDAR
VERSION:2.0
PRODID:-//Ayuntamiento de Motril. Transparencia - ECPv6.15.20//NONSGML v1.0//EN
CALSCALE:GREGORIAN
METHOD:PUBLISH
X-WR-CALNAME:Ayuntamiento de Motril. Transparencia
X-ORIGINAL-URL:https://transparencia.motril.es
X-WR-CALDESC:Eventos para Ayuntamiento de Motril. Transparencia
REFRESH-INTERVAL;VALUE=DURATION:PT1H
X-Robots-Tag:noindex
X-PUBLISHED-TTL:PT1H
BEGIN:VTIMEZONE
TZID:UTC
BEGIN:STANDARD
TZOFFSETFROM:+0000
TZOFFSETTO:+0000
TZNAME:UTC
DTSTART:20210101T000000
END:STANDARD
END:VTIMEZONE
BEGIN:VEVENT
DTSTART;TZID=UTC:20220505T120000
DTEND;TZID=UTC:20220505T130000
DTSTAMP:20260425T001034
CREATED:20220504T105914Z
LAST-MODIFIED:20220504T105914Z
UID:3791-1651752000-1651755600@transparencia.motril.es
SUMMARY:La alcaldesa visita la Autoescuela Digital
DESCRIPTION:
URL:https://transparencia.motril.es/evento/la-alcaldesa-visita-la-autoescuela-digital/
LOCATION:Calle Nueva\, 47
CATEGORIES:Comercio
END:VEVENT
BEGIN:VEVENT
DTSTART;TZID=UTC:20220505T133000
DTEND;TZID=UTC:20220505T133000
DTSTAMP:20260425T001034
CREATED:20220504T110120Z
LAST-MODIFIED:20220504T110120Z
UID:3794-1651757400-1651757400@transparencia.motril.es
SUMMARY:La alcaldesa de Motril\, el teniente de alcalde de Obras Públicas\, el teniente de alcalde de Urbanismo y el teniente de alcalde de Turismo\, visitan las actuaciones que se están realizando en la Ronda Sur
DESCRIPTION:La alcaldesa de Motril\, Luisa García Chamorro\, el teniente de alcalde de Obras Públicas\, Nicolás Navarro\, el teniente de alcalde de Urbanismo\, Antonio Escámez\, y el teniente de alcalde de Turismo\, José Lemos\, visitan las actuaciones que se están realizando en la Ronda Sur
URL:https://transparencia.motril.es/evento/la-alcaldesa-de-motril-el-teniente-de-alcalde-de-obras-publicas-el-teniente-de-alcalde-de-urbanismo-y-el-teniente-de-alcalde-de-turismo-visitan-las-actuaciones-que-se-estan-realizando-en-la-ronda-s/
LOCATION:Entrada Piscina Municipal
CATEGORIES:Obras
END:VEVENT
BEGIN:VEVENT
DTSTART;TZID=UTC:20220505T180000
DTEND;TZID=UTC:20220505T190000
DTSTAMP:20260425T001034
CREATED:20220504T110235Z
LAST-MODIFIED:20220504T110235Z
UID:3797-1651773600-1651777200@transparencia.motril.es
SUMMARY:La alcaldesa visita la tienda 'Isabella'
DESCRIPTION:
URL:https://transparencia.motril.es/evento/la-alcaldesa-visita-la-tienda-isabella/
LOCATION:Plaza Jardinillos
CATEGORIES:Comercio
END:VEVENT
BEGIN:VEVENT
DTSTART;TZID=UTC:20220505T190000
DTEND;TZID=UTC:20220505T200000
DTSTAMP:20260425T001034
CREATED:20220504T110330Z
LAST-MODIFIED:20220504T110330Z
UID:3800-1651777200-1651780800@transparencia.motril.es
SUMMARY:La alcaldesa asiste al desfile de bañadores y lencería organizado por la AECC
DESCRIPTION:
URL:https://transparencia.motril.es/evento/la-alcaldesa-asiste-al-desfile-de-banadores-y-lenceria-organizado-por-la-aecc/
LOCATION:Teatro Calderón de la Barca\, Plaza Paulino Bellido\, s/n\, Motril\, Granada\, 18600\, España
CATEGORIES:Actos
END:VEVENT
END:VCALENDAR