BEGIN:VCALENDAR
VERSION:2.0
PRODID:-//Ayuntamiento de Motril. Transparencia - ECPv6.15.20//NONSGML v1.0//EN
CALSCALE:GREGORIAN
METHOD:PUBLISH
X-ORIGINAL-URL:https://transparencia.motril.es
X-WR-CALDESC:Eventos para Ayuntamiento de Motril. Transparencia
REFRESH-INTERVAL;VALUE=DURATION:PT1H
X-Robots-Tag:noindex
X-PUBLISHED-TTL:PT1H
BEGIN:VTIMEZONE
TZID:UTC
BEGIN:STANDARD
TZOFFSETFROM:+0000
TZOFFSETTO:+0000
TZNAME:UTC
DTSTART:20210101T000000
END:STANDARD
END:VTIMEZONE
BEGIN:VEVENT
DTSTART;TZID=UTC:20220414T063000
DTEND;TZID=UTC:20220414T200000
DTSTAMP:20260425T020556
CREATED:20220413T121629Z
LAST-MODIFIED:20220413T121629Z
UID:3554-1649917800-1649966400@transparencia.motril.es
SUMMARY:La alcaldesa de Motril y miembros del equipo de Gobierno realizan una ofrenda a María Santísima de la Amargura\, titular mariana de la Hermandad de Pasión
DESCRIPTION:La alcaldesa de Motril\, Luisa García Chamorro\, y miembros del equipo de Gobierno realizan una ofrenda a María Santísima de la Amargura\, titular mariana de la Hermandad de Pasión
URL:https://transparencia.motril.es/evento/la-alcaldesa-de-motril-y-miembros-del-equipo-de-gobierno-realizan-una-ofrenda-a-maria-santisima-de-la-amargura-titular-mariana-de-la-hermandad-de-pasion/
LOCATION:Santuario de Ntra. Sra. de la Cabeza
CATEGORIES:Actos
END:VEVENT
BEGIN:VEVENT
DTSTART;TZID=UTC:20220414T203000
DTEND;TZID=UTC:20220414T203000
DTSTAMP:20260425T020556
CREATED:20220413T121740Z
LAST-MODIFIED:20220413T121740Z
UID:3557-1649968200-1649968200@transparencia.motril.es
SUMMARY:La alcaldesa de Motril y miembros del equipo de Gobierno participan en el desfile procesional de la Cofradía de Ntro. Padre Jesús Nazareno y María Santísima de la Esperanza
DESCRIPTION:
URL:https://transparencia.motril.es/evento/la-alcaldesa-de-motril-y-miembros-del-equipo-de-gobierno-participan-en-el-desfile-procesional-de-la-cofradia-de-ntro-padre-jesus-nazareno-y-maria-santisima-de-la-esperanza/
LOCATION:Casa de Hermandad del Nazareno
CATEGORIES:Actos
END:VEVENT
END:VCALENDAR