BEGIN:VCALENDAR
VERSION:2.0
PRODID:-//Ayuntamiento de Motril. Transparencia - ECPv6.15.20//NONSGML v1.0//EN
CALSCALE:GREGORIAN
METHOD:PUBLISH
X-ORIGINAL-URL:https://transparencia.motril.es
X-WR-CALDESC:Eventos para Ayuntamiento de Motril. Transparencia
REFRESH-INTERVAL;VALUE=DURATION:PT1H
X-Robots-Tag:noindex
X-PUBLISHED-TTL:PT1H
BEGIN:VTIMEZONE
TZID:UTC
BEGIN:STANDARD
TZOFFSETFROM:+0000
TZOFFSETTO:+0000
TZNAME:UTC
DTSTART:20210101T000000
END:STANDARD
END:VTIMEZONE
BEGIN:VEVENT
DTSTART;TZID=UTC:20220413T210000
DTEND;TZID=UTC:20220413T210000
DTSTAMP:20260425T015731
CREATED:20220412T112414Z
LAST-MODIFIED:20220412T112414Z
UID:3551-1649883600-1649883600@transparencia.motril.es
SUMMARY:La alcaldesa de Motri y el concejal de Personal asisten al Palco Oficial para el paso por Carrera Oficial de la Cofradía del Santísimo Cristo de la Salud
DESCRIPTION:
URL:https://transparencia.motril.es/evento/la-alcaldesa-de-motri-y-el-concejal-de-personal-asisten-al-palco-oficial-para-el-paso-por-carrera-oficial-de-la-cofradia-del-santisimo-cristo-de-la-salud/
LOCATION:Palco Oficial en Plaza de las Palmeras
CATEGORIES:Actos
END:VEVENT
END:VCALENDAR