BEGIN:VCALENDAR
VERSION:2.0
PRODID:-//Ayuntamiento de Motril. Transparencia - ECPv6.15.20//NONSGML v1.0//EN
CALSCALE:GREGORIAN
METHOD:PUBLISH
X-ORIGINAL-URL:https://transparencia.motril.es
X-WR-CALDESC:Eventos para Ayuntamiento de Motril. Transparencia
REFRESH-INTERVAL;VALUE=DURATION:PT1H
X-Robots-Tag:noindex
X-PUBLISHED-TTL:PT1H
BEGIN:VTIMEZONE
TZID:UTC
BEGIN:STANDARD
TZOFFSETFROM:+0000
TZOFFSETTO:+0000
TZNAME:UTC
DTSTART:20210101T000000
END:STANDARD
END:VTIMEZONE
BEGIN:VEVENT
DTSTART;TZID=UTC:20220308T090000
DTEND;TZID=UTC:20220308T100000
DTSTAMP:20260425T033931
CREATED:20220307T125930Z
LAST-MODIFIED:20220307T125930Z
UID:1502-1646730000-1646733600@transparencia.motril.es
SUMMARY:Reunión interna
DESCRIPTION:
URL:https://transparencia.motril.es/evento/reunion-interna-12/
LOCATION:Salón de Protocolo\, Plaza de España\, 1\, Granada\, 18600\, España
CATEGORIES:Reunión
END:VEVENT
BEGIN:VEVENT
DTSTART;TZID=UTC:20220308T120000
DTEND;TZID=UTC:20220308T130000
DTSTAMP:20260425T033931
CREATED:20220307T130026Z
LAST-MODIFIED:20220307T130026Z
UID:1504-1646740800-1646744400@transparencia.motril.es
SUMMARY:La alcaldesa asiste a la misa con motivo del patrón del Cuerpo de Bomberos de Motril
DESCRIPTION:
URL:https://transparencia.motril.es/evento/la-alcaldesa-asiste-a-la-misa-con-motivo-del-patron-del-cuerpo-de-bomberos-de-motril/
LOCATION:Iglesia de la Victoria (PP.AA)
CATEGORIES:Actos
END:VEVENT
BEGIN:VEVENT
DTSTART;TZID=UTC:20220308T130000
DTEND;TZID=UTC:20220308T133000
DTSTAMP:20260425T033931
CREATED:20220307T130119Z
LAST-MODIFIED:20220307T130119Z
UID:1507-1646744400-1646746200@transparencia.motril.es
SUMMARY:La alcaldesa y miembros del Gobierno Municipal asisten al acto de entrega de medallas y condecoraciones del Cuerpo de Bomberos de Motril
DESCRIPTION:
URL:https://transparencia.motril.es/evento/la-alcaldesa-y-miembros-del-gobierno-municipal-asisten-al-acto-de-entrega-de-medallas-y-condecoraciones-del-cuerpo-de-bomberos-de-motril/
LOCATION:Teatro Calderón de la Barca\, Plaza Paulino Bellido\, s/n\, Motril\, Granada\, 18600\, España
CATEGORIES:Actos
END:VEVENT
BEGIN:VEVENT
DTSTART;TZID=UTC:20220308T193000
DTEND;TZID=UTC:20220308T213000
DTSTAMP:20260425T033931
CREATED:20220307T130201Z
LAST-MODIFIED:20220307T130201Z
UID:1509-1646767800-1646775000@transparencia.motril.es
SUMMARY:La alcaldesa asiste al acto institucional con motivo del Día de la Mujer y Premios Igualdad 2022
DESCRIPTION:
URL:https://transparencia.motril.es/evento/la-alcaldesa-asiste-al-acto-institucional-con-motivo-del-dia-de-la-mujer-y-premios-igualdad-2022/
LOCATION:Teatro Calderón de la Barca\, Plaza Paulino Bellido\, s/n\, Motril\, Granada\, 18600\, España
CATEGORIES:Actos
END:VEVENT
END:VCALENDAR