BEGIN:VCALENDAR
VERSION:2.0
PRODID:-//Ayuntamiento de Motril. Transparencia - ECPv6.15.20//NONSGML v1.0//EN
CALSCALE:GREGORIAN
METHOD:PUBLISH
X-ORIGINAL-URL:https://transparencia.motril.es
X-WR-CALDESC:Eventos para Ayuntamiento de Motril. Transparencia
REFRESH-INTERVAL;VALUE=DURATION:PT1H
X-Robots-Tag:noindex
X-PUBLISHED-TTL:PT1H
BEGIN:VTIMEZONE
TZID:UTC
BEGIN:STANDARD
TZOFFSETFROM:+0000
TZOFFSETTO:+0000
TZNAME:UTC
DTSTART:20210101T000000
END:STANDARD
END:VTIMEZONE
BEGIN:VEVENT
DTSTART;TZID=UTC:20220222T090000
DTEND;TZID=UTC:20220222T100000
DTSTAMP:20260425T102248
CREATED:20220221T081944Z
LAST-MODIFIED:20220221T081944Z
UID:902-1645520400-1645524000@transparencia.motril.es
SUMMARY:Reunión interna
DESCRIPTION:
URL:https://transparencia.motril.es/evento/reunion-interna-4/
LOCATION:Salón de Protocolo\, Plaza de España\, 1\, Granada\, 18600\, España
CATEGORIES:Reunión
END:VEVENT
BEGIN:VEVENT
DTSTART;TZID=UTC:20220222T100000
DTEND;TZID=UTC:20220222T103000
DTSTAMP:20260425T102248
CREATED:20220221T082031Z
LAST-MODIFIED:20220221T082031Z
UID:904-1645524000-1645525800@transparencia.motril.es
SUMMARY:Reunión interna
DESCRIPTION:
URL:https://transparencia.motril.es/evento/reunion-interna-5/
LOCATION:Salón de Protocolo\, Plaza de España\, 1\, Granada\, 18600\, España
CATEGORIES:Reunión
END:VEVENT
BEGIN:VEVENT
DTSTART;TZID=UTC:20220222T130000
DTEND;TZID=UTC:20220222T140000
DTSTAMP:20260425T102248
CREATED:20220221T092629Z
LAST-MODIFIED:20220221T092629Z
UID:914-1645534800-1645538400@transparencia.motril.es
SUMMARY:Reunión equipo de Gobierno
DESCRIPTION:
URL:https://transparencia.motril.es/evento/reunion-equipo-de-gobierno/
LOCATION:Salón de Protocolo\, Plaza de España\, 1\, Granada\, 18600\, España
CATEGORIES:Reunión
END:VEVENT
END:VCALENDAR