BEGIN:VCALENDAR
VERSION:2.0
PRODID:-//Ayuntamiento de Motril. Transparencia - ECPv6.15.20//NONSGML v1.0//EN
CALSCALE:GREGORIAN
METHOD:PUBLISH
X-ORIGINAL-URL:https://transparencia.motril.es
X-WR-CALDESC:Eventos para Ayuntamiento de Motril. Transparencia
REFRESH-INTERVAL;VALUE=DURATION:PT1H
X-Robots-Tag:noindex
X-PUBLISHED-TTL:PT1H
BEGIN:VTIMEZONE
TZID:UTC
BEGIN:STANDARD
TZOFFSETFROM:+0000
TZOFFSETTO:+0000
TZNAME:UTC
DTSTART:20210101T000000
END:STANDARD
END:VTIMEZONE
BEGIN:VEVENT
DTSTART;TZID=UTC:20220221T100000
DTEND;TZID=UTC:20220221T110000
DTSTAMP:20260425T102624
CREATED:20220218T130811Z
LAST-MODIFIED:20220218T130811Z
UID:860-1645437600-1645441200@transparencia.motril.es
SUMMARY:Reunión interna
DESCRIPTION:
URL:https://transparencia.motril.es/evento/reunion-interna-3/
LOCATION:Salón de Protocolo\, Plaza de España\, 1\, Granada\, 18600\, España
CATEGORIES:Reunión
END:VEVENT
BEGIN:VEVENT
DTSTART;TZID=UTC:20220221T110000
DTEND;TZID=UTC:20220221T120000
DTSTAMP:20260425T102624
CREATED:20220218T130904Z
LAST-MODIFIED:20220218T130904Z
UID:862-1645441200-1645444800@transparencia.motril.es
SUMMARY:La alcaldesa junto al comandante jefe del EVA 9 presentan el acto de Jura de Bandera
DESCRIPTION:La alcaldesa de Motril\, Luisa María García Chamorro y el comandante jefe del EVA 9\, José Luis Rando Guirado\, presentará el acto de Jura de Bandera que podrá realizar la población civil el próximo mes de mayo.
URL:https://transparencia.motril.es/evento/la-alcaldesa-junto-al-comandante-jefe-del-eva-9-presentan-el-acto-de-jura-de-bandera/
LOCATION:Salón de Protocolo\, Plaza de España\, 1\, Granada\, 18600\, España
CATEGORIES:Actos
END:VEVENT
BEGIN:VEVENT
DTSTART;TZID=UTC:20220221T120000
DTEND;TZID=UTC:20220221T130000
DTSTAMP:20260425T102624
CREATED:20220218T131054Z
LAST-MODIFIED:20220218T131054Z
UID:864-1645444800-1645448400@transparencia.motril.es
SUMMARY:La alcaldesa recibe al acuarelista Álvaro Castañet
DESCRIPTION:La alcaldesa de Motril\, Luisa María García Chamorro\, recibe al acuarelista Álvaro Castañet.
URL:https://transparencia.motril.es/evento/la-alcaldesa-recibe-al-acuarelista-alvaro-castanet/
LOCATION:Salón de Protocolo\, Plaza de España\, 1\, Granada\, 18600\, España
CATEGORIES:Recepciones
END:VEVENT
END:VCALENDAR