BEGIN:VCALENDAR
VERSION:2.0
PRODID:-//Ayuntamiento de Motril. Transparencia - ECPv6.15.20//NONSGML v1.0//EN
CALSCALE:GREGORIAN
METHOD:PUBLISH
X-ORIGINAL-URL:https://transparencia.motril.es
X-WR-CALDESC:Eventos para Ayuntamiento de Motril. Transparencia
REFRESH-INTERVAL;VALUE=DURATION:PT1H
X-Robots-Tag:noindex
X-PUBLISHED-TTL:PT1H
BEGIN:VTIMEZONE
TZID:UTC
BEGIN:STANDARD
TZOFFSETFROM:+0000
TZOFFSETTO:+0000
TZNAME:UTC
DTSTART:20210101T000000
END:STANDARD
END:VTIMEZONE
BEGIN:VEVENT
DTSTART;TZID=UTC:20220216T090000
DTEND;TZID=UTC:20220216T100000
DTSTAMP:20260425T102911
CREATED:20220215T092041Z
LAST-MODIFIED:20220215T092041Z
UID:777-1645002000-1645005600@transparencia.motril.es
SUMMARY:La alcaldesa\, junto al concejal de Cultura\, presentan el concierto de Carlos de Jacoba
DESCRIPTION:La alcaldesa de Motril\, Luisa García Chamorro\, junto al concejal de Cultura\, Miguel Ángel Muñoz\, presentarán el concierto del guitarrista flamenco Carlos de Jacoba.
URL:https://transparencia.motril.es/evento/la-alcaldesa-junto-al-concejal-de-cultura-presentan-el-concierto-de-carlos-de-jacoba/
LOCATION:Salón de Protocolo\, Plaza de España\, 1\, Granada\, 18600\, España
CATEGORIES:Cultura
END:VEVENT
BEGIN:VEVENT
DTSTART;TZID=UTC:20220216T100000
DTEND;TZID=UTC:20220216T103000
DTSTAMP:20260425T102911
CREATED:20220215T092249Z
LAST-MODIFIED:20220215T092249Z
UID:779-1645005600-1645007400@transparencia.motril.es
SUMMARY:La alcaldesa de Motril\, junto al teniente de alcalde de Agricultura\, visitan las instalaciones de Hortoplant
DESCRIPTION:La alcaldesa de Motril\, Luisa María García Chamorro\, junto al teniente de alcalde de Agricultura\, Antonio Escámez\, visitarán las instalaciones de Hortoplant.
URL:https://transparencia.motril.es/evento/la-alcaldesa-de-motril-junto-al-teniente-de-alcalde-de-agricultura-visitan-las-instalaciones-de-hortoplant/
LOCATION:Hortoplant\, La Nacla\, Motril\, Granada\, 18600\, España
CATEGORIES:Agricultura
END:VEVENT
BEGIN:VEVENT
DTSTART;TZID=UTC:20220216T110000
DTEND;TZID=UTC:20220216T113000
DTSTAMP:20260425T102911
CREATED:20220215T092504Z
LAST-MODIFIED:20220215T092504Z
UID:782-1645009200-1645011000@transparencia.motril.es
SUMMARY:La alcaldesa recibe al árbitro Izan Barbero
DESCRIPTION:La alcaldesa de Motril\, Luisa García Chamorro\, recibe al joven árbitro de Granada Izan Barbero.
URL:https://transparencia.motril.es/evento/la-alcaldesa-recibe-al-arbitro-izan-barbero/
LOCATION:Salón de Protocolo\, Plaza de España\, 1\, Granada\, 18600\, España
CATEGORIES:Recepciones
END:VEVENT
BEGIN:VEVENT
DTSTART;TZID=UTC:20220216T113000
DTEND;TZID=UTC:20220216T120000
DTSTAMP:20260425T102911
CREATED:20220215T092627Z
LAST-MODIFIED:20220215T093757Z
UID:784-1645011000-1645012800@transparencia.motril.es
SUMMARY:La alcaldesa\, junto al concejal de Deportes\, presentan el Campeonato de España de Atletismo
DESCRIPTION:La alcaldesa de Motril\, Luisa María García Chamorro\, junto al concejal de Deportes\, Daniel Ortega\, presentarán el Campeonato de España de Atletismo.
URL:https://transparencia.motril.es/evento/la-alcaldesa-junto-al-concejal-de-deportes-presentan-el-campeonato-de-espana-de-atletismo/
LOCATION:Salón de Protocolo\, Plaza de España\, 1\, Granada\, 18600\, España
CATEGORIES:Deportes
END:VEVENT
BEGIN:VEVENT
DTSTART;TZID=UTC:20220216T130000
DTEND;TZID=UTC:20220216T133000
DTSTAMP:20260425T102911
CREATED:20220215T093305Z
LAST-MODIFIED:20220215T093305Z
UID:786-1645016400-1645018200@transparencia.motril.es
SUMMARY:La alcaldesa visita la empresa de productos procesados que fabrica la marca Cortijo Cacharoles
DESCRIPTION:La alcaldesa\, Luisa García Chamorro\, junto con la concejal de Comercio\, Susana Peña\, visitan la empresa de productos procesados que fabrica la marca Cortijo Cacharoles.
URL:https://transparencia.motril.es/evento/la-alcaldesa-visita-la-empresa-de-productos-procesados-que-fabrica-la-marca-cortijo-cacharoles/
LOCATION:Calle Garcés Herrera\, 51\, Calle Garcés Herrera\, 51\, Motril\, 18600\, España
CATEGORIES:Comercio
END:VEVENT
END:VCALENDAR